BEGIN:VCALENDAR
VERSION:2.0
PRODID:-//wp-events-plugin.com//7.2.3.1//EN
TZID:Europe/Dublin
X-WR-TIMEZONE:Europe/Dublin
BEGIN:VEVENT
UID:276@galwaybayrugby.com
DTSTART;TZID=Europe/Dublin:20250423T190000
DTEND;TZID=Europe/Dublin:20250423T203000
DTSTAMP:20250128T142233Z
URL:https://galwaybayrugby.com/events/training-under-16-2-2025-04-23/
SUMMARY:Training  Under 16
DESCRIPTION:U16 Galway Bay Galwegians - Wednesday 7.00 -8:30pm Crowley Park
 \,\n\n
CATEGORIES:Under 16
LOCATION:Crowley park\, Crowley park\, Galway\, Ireland
GEO:53.279766;-9.015344
X-APPLE-STRUCTURED-LOCATION;VALUE=URI;X-ADDRESS=Crowley park\, Galway\, Ire
 land;X-APPLE-RADIUS=100;X-TITLE=Crowley park:geo:53.279766,-9.015344
END:VEVENT
BEGIN:VTIMEZONE
TZID:Europe/Dublin
X-LIC-LOCATION:Europe/Dublin
BEGIN:STANDARD
DTSTART:20250330T020000
TZOFFSETFROM:+0000
TZOFFSETTO:+0100
TZNAME:IST
END:STANDARD
END:VTIMEZONE
END:VCALENDAR